BEGIN:VCALENDAR
VERSION:2.0
PRODID:-//ChamberMaster//Event Calendar 2.0//EN
METHOD:PUBLISH
X-PUBLISHED-TTL:P3D
REFRESH-INTERVAL:P3D
CALSCALE:GREGORIAN
BEGIN:VEVENT
DTSTART:20160918T000000Z
DTEND:20160918T030000Z
X-MICROSOFT-CDO-ALLDAYEVENT:FALSE
SUMMARY:Lake County Wine Auction
DESCRIPTION:SAVE THE DATE.
X-ALT-DESC;FMTTYPE=text/html:<p>SAVE THE DATE.</p> 
LOCATION:TO BE ANNOUNCED
UID:e.1531.3326
SEQUENCE:3
DTSTAMP:20260420T215331Z
URL:https://members.psaeger.com/events/details/lake-county-wine-auction-09-17-2016-3326
END:VEVENT

END:VCALENDAR
