BEGIN:VCALENDAR
VERSION:2.0
PRODID:-//ChamberMaster//Event Calendar 2.0//EN
METHOD:PUBLISH
X-PUBLISHED-TTL:P3D
REFRESH-INTERVAL:P3D
CALSCALE:GREGORIAN
BEGIN:VEVENT
DTSTART:20160528T190000Z
DTEND:20160528T230000Z
X-MICROSOFT-CDO-ALLDAYEVENT:FALSE
SUMMARY:Lake County Show and Shine
DESCRIPTION:Come and see the beautiful show cars of Lake County.  Visit the Lake County Fairgrounds at 401 Martin St.\, Lakeport and enjoy a local car show from noon till 4 pm.
X-ALT-DESC;FMTTYPE=text/html:<p>Come and see the beautiful show cars of Lake County. &nbsp\;Visit the Lake County Fairgrounds at 401 Martin St.\, Lakeport and enjoy a local car show from noon till 4 pm. &nbsp\;</p> 
LOCATION:Lake County Fairgrounds 401 Martin St.\, Lakeport
UID:e.1531.3461
SEQUENCE:3
DTSTAMP:20260421T042232Z
URL:https://members.psaeger.com/events/details/lake-county-show-and-shine-05-28-2016-3461
END:VEVENT

END:VCALENDAR
