BEGIN:VCALENDAR
VERSION:2.0
PRODID:-//ChamberMaster//Event Calendar 2.0//EN
METHOD:PUBLISH
X-PUBLISHED-TTL:P3D
REFRESH-INTERVAL:P3D
CALSCALE:GREGORIAN
BEGIN:VEVENT
DTSTART:20160917T230000Z
DTEND:20160918T040000Z
X-MICROSOFT-CDO-ALLDAYEVENT:FALSE
SUMMARY:Lake County Passion Play
DESCRIPTION:Lake County Passion Play is holding it's Annual Fund Raising Dinner at Rancho De La Fuente\, 2290 Soda Bay Road\, Lakeport on October 17\, 2015. The theme is a Fall Fiesta with Mexican fare\, margaritas and music..We will also have a Live Auction and a raffle. Make reservations early by calling Fr. Ryan at 279-9784 or Jeanette Kemp at 263-6390.
X-ALT-DESC;FMTTYPE=text/html:<p>Lake County Passion Play is holding it&#39\;s Annual Fund Raising Dinner at Rancho De La Fuente\, 2290 Soda Bay Road\, Lakeport on October 17\, 2015. The theme is a Fall Fiesta with Mexican fare\, margaritas and music..We will also have a Live Auction and a raffle. Make reservations early&nbsp\;by calling Fr. Ryan at 279-9784 or Jeanette Kemp at 263-6390.</p>  <p>&nbsp\;</p>  <p>&nbsp\;</p>  <p>&nbsp\;</p> 
LOCATION:Rancho De La Fuente\, 2290 Soda Bay Road\, Lakeport
UID:e.1531.3325
SEQUENCE:3
DTSTAMP:20260420T211912Z
URL:https://members.psaeger.com/events/details/lake-county-passion-play-09-17-2016-3325
END:VEVENT

END:VCALENDAR
