BEGIN:VCALENDAR
VERSION:2.0
PRODID:-//ChamberMaster//Event Calendar 2.0//EN
METHOD:PUBLISH
X-PUBLISHED-TTL:P3D
REFRESH-INTERVAL:P3D
CALSCALE:GREGORIAN
BEGIN:VEVENT
DTSTART:20160612T220000Z
DTEND:20160613T010000Z
X-MICROSOFT-CDO-ALLDAYEVENT:FALSE
SUMMARY:Lake County Land Trust Spring
DESCRIPTION:Annual Spring fundraiser for the Lake County Land Trust  Hosted by Bernie and Lynne Butcher and will be held in the garden of the Blue Wing Restaurant and Tallman Hotel in Upper Lake.  Feature wine\, hors d'oeuvres and live music.  Tickets are $50 per person and the public is invited. Reservations are required and can be made by calling (707) 262-0707 and leaving a message. Or\, go online to reserve and pay at www.lakecountylandtrust.org.
X-ALT-DESC;FMTTYPE=text/html:<h1 style="text-align: center\;"><span style="color:#006400\;">Annual Spring fundraiser for the Lake County Land Trust</span></h1>  <p>Hosted by Bernie and Lynne Butcher and will be held in the garden of the Blue Wing Restaurant and Tallman Hotel in Upper Lake.</p>  <p>Feature wine\, hors d&#39\;oeuvres and live music.</p>  <p>Tickets are $50 per person and the public is invited. Reservations are required and can be made by calling (707) 262-0707 and leaving a message. Or\, go online to reserve and pay at www.lakecountylandtrust.org.</p> 
LOCATION:Garden at the Blue Wing Restaurant and Tallman Hotel in Upper Lake
UID:e.1531.3419
SEQUENCE:3
DTSTAMP:20260421T023305Z
URL:https://members.psaeger.com/events/details/lake-county-land-trust-spring-06-12-2016-3419
END:VEVENT

END:VCALENDAR
