BEGIN:VCALENDAR
VERSION:2.0
PRODID:-//ChamberMaster//Event Calendar 2.0//EN
METHOD:PUBLISH
X-PUBLISHED-TTL:P3D
REFRESH-INTERVAL:P3D
CALSCALE:GREGORIAN
BEGIN:VEVENT
DTSTART:20161008T230000Z
DTEND:20161009T020000Z
X-MICROSOFT-CDO-ALLDAYEVENT:FALSE
SUMMARY:Lake County Land Trust Annual Dinner
DESCRIPTION:Annual fundraising dinner for the Lake County Land Trust at The Lodge at Blue Lakes. Live music\, appetizers\, silent auction and program. Tickets are $75 and include Lake County wines.
X-ALT-DESC;FMTTYPE=text/html:<p>Annual fundraising dinner for the Lake County Land Trust at The Lodge at Blue Lakes. Live music\, appetizers\, silent auction and program. Tickets are $75 and include Lake County wines.</p> 
LOCATION:The Lodge at Blue Lakes
UID:e.1531.3508
SEQUENCE:3
DTSTAMP:20260420T195441Z
URL:https://members.psaeger.com/events/details/lake-county-land-trust-annual-dinner-10-08-2016-3508
END:VEVENT

END:VCALENDAR
