BEGIN:VCALENDAR
VERSION:2.0
PRODID:-//ChamberMaster//Event Calendar 2.0//EN
METHOD:PUBLISH
X-PUBLISHED-TTL:P3D
REFRESH-INTERVAL:P3D
CALSCALE:GREGORIAN
BEGIN:VEVENT
DTSTART:20160528T160000Z
DTEND:20160528T230000Z
X-MICROSOFT-CDO-ALLDAYEVENT:FALSE
SUMMARY:Kiwanis Memorial Weekend Craft Fair
DESCRIPTION:26th Annual Kiwanis Craft Fair   Natural High\, 810 N. Main St. in Lakeport  9 AM to 4 PM  Artisans and crafters will be displaying and selling a wide range of hand crafts and food items.  The Craft Fair supports the Lakeport Kiwanis Scholarship Fund as well as community projects.    Food is available at the event\, including kettle corn\, Polish dogs\, and snow cones.  Music begins at 11:00.  Lakeport Kiwanis Club is a group of volunteers dedicated to supporting our youth and serving our community.  More information about Lakeport Kiwanis Club available at kiwanislakeport.org or our Facebook page\, Kiwanis Club of Lakeport CA.
X-ALT-DESC;FMTTYPE=text/html:<h2 style="text-align: center\;"><span style="font-size:18px\;">26th Annual Kiwanis Craft Fair </span></h2>  <p style="text-align: center\;"><span style="font-size:14px\;">Natural High\, 810 N. Main St. in Lakeport</span></p>  <p style="text-align: center\;"><span style="font-size:14px\;">9 AM to 4 PM</span></p>  <p>Artisans and crafters will be displaying and selling a wide range of hand crafts and food items.</p>  <p>The Craft Fair supports the Lakeport Kiwanis Scholarship Fund as well as community projects.&nbsp\;&nbsp\;</p>  <p>Food is available at the event\, including kettle corn\, Polish dogs\, and snow cones.</p>  <p>Music begins at 11:00.</p>  <p><span style="font-size:14px\;">Lakeport Kiwanis Club is a group of volunteers dedicated to supporting our youth and serving our community. &nbsp\;More information about Lakeport Kiwanis Club available at <a href="http://kiwanislakeport.org">kiwanislakeport.org</a> or our Facebook page\, Kiwanis Club of Lakeport CA.</span></p> 
LOCATION:Natural High 810 N. Main St. Lkpt
UID:e.1531.3358
SEQUENCE:3
DTSTAMP:20260421T042213Z
URL:https://members.psaeger.com/events/details/kiwanis-memorial-weekend-craft-fair-05-28-2016-3358
END:VEVENT

END:VCALENDAR
