BEGIN:VCALENDAR
VERSION:2.0
PRODID:-//ChamberMaster//Event Calendar 2.0//EN
METHOD:PUBLISH
X-PUBLISHED-TTL:P3D
REFRESH-INTERVAL:P3D
CALSCALE:GREGORIAN
BEGIN:VEVENT
DTSTART:20160617T020000Z
DTEND:20160617T050000Z
X-MICROSOFT-CDO-ALLDAYEVENT:FALSE
SUMMARY:Kickin' In The Country Street Dance
DESCRIPTION:SAVE THE DATE.
X-ALT-DESC;FMTTYPE=text/html:<p>SAVE THE DATE.</p> 
LOCATION:Main Street\, Kelseyville
UID:e.1531.3298
SEQUENCE:3
DTSTAMP:20260421T023616Z
URL:https://members.psaeger.com/events/details/kickin-in-the-country-street-dance-06-16-2016-3298
END:VEVENT

END:VCALENDAR
