BEGIN:VCALENDAR
VERSION:2.0
PRODID:-//ChamberMaster//Event Calendar 2.0//EN
METHOD:PUBLISH
X-PUBLISHED-TTL:P3D
REFRESH-INTERVAL:P3D
CALSCALE:GREGORIAN
BEGIN:VEVENT
DTSTART:20160220T060000Z
DTEND:20160220T075900Z
X-MICROSOFT-CDO-ALLDAYEVENT:FALSE
SUMMARY:Karaoke
DESCRIPTION:Karaoke every Friday night starting at 10PM until 2AM.  Running Creek Casino. The place to play!
X-ALT-DESC;FMTTYPE=text/html:<p>Karaoke every Friday night starting at 10PM until 2AM.</p>  <p>Running Creek Casino. The place to play!</p> 
LOCATION:Running Creek Casino
UID:e.1531.3191
SEQUENCE:3
DTSTAMP:20260421T084855Z
URL:https://members.psaeger.com/events/details/karaoke-02-19-2016-3191
END:VEVENT

END:VCALENDAR
