BEGIN:VCALENDAR
VERSION:2.0
PRODID:-//ChamberMaster//Event Calendar 2.0//EN
METHOD:PUBLISH
X-PUBLISHED-TTL:P3D
REFRESH-INTERVAL:P3D
CALSCALE:GREGORIAN
BEGIN:VEVENT
DTSTART:20160605T173000Z
DTEND:20160605T220000Z
X-MICROSOFT-CDO-ALLDAYEVENT:FALSE
SUMMARY:Just Enough Trio at Blue Wing Sunday Brunch
DESCRIPTION:Enjoy a great brunch from 10:30 to 3:00 with live music inside or out in the garden in good weather from 11:30 to 2:00. Music today is by the lovely "Just Enough" Trio down from Willits.
X-ALT-DESC;FMTTYPE=text/html:<p>Enjoy a great brunch from 10:30 to 3:00 with live music inside or out in the garden in good weather from 11:30 to 2:00. Music today is by the lovely &quot\;Just Enough&quot\; Trio down from Willits.</p> 
LOCATION:Blue Wing Restaurant
UID:e.1531.3414
SEQUENCE:3
DTSTAMP:20260421T023524Z
URL:https://members.psaeger.com/events/details/just-enough-trio-at-blue-wing-sunday-brunch-06-05-2016-3414
END:VEVENT

END:VCALENDAR
