BEGIN:VCALENDAR
VERSION:2.0
PRODID:-//ChamberMaster//Event Calendar 2.0//EN
METHOD:PUBLISH
X-PUBLISHED-TTL:P3D
REFRESH-INTERVAL:P3D
CALSCALE:GREGORIAN
BEGIN:VEVENT
DTSTART:20160524T013000Z
DTEND:20160524T040000Z
X-MICROSOFT-CDO-ALLDAYEVENT:FALSE
SUMMARY:Johnny Tsunami at Blue Wing Monday Blues
DESCRIPTION:Local\, Bay Area and touring blues bands perform at the Blue Wing at dinner time each Monday evening. It's great food in a lively and danceable atmosphere. There's no cover but reservations are suggested\, either inside or out on our heated veranda. Tonight we feature Johnny Tsunami and the Hurricanes from Santa Rosa with Tom Aiken on the keyboard.
X-ALT-DESC;FMTTYPE=text/html:<p>Local\, Bay Area and touring blues bands perform at the Blue Wing at dinner time each Monday evening. It&#39\;s great food in a lively and danceable atmosphere. There&#39\;s no cover but reservations are suggested\, either inside or out on our heated veranda. Tonight we feature Johnny Tsunami and the Hurricanes from Santa Rosa with Tom Aiken on the keyboard.</p> 
LOCATION:Blue Wing Restaurant
UID:e.1531.3390
SEQUENCE:3
DTSTAMP:20260421T042254Z
URL:https://members.psaeger.com/events/details/johnny-tsunami-at-blue-wing-monday-blues-05-23-2016-3390
END:VEVENT

END:VCALENDAR
