BEGIN:VCALENDAR
VERSION:2.0
PRODID:-//ChamberMaster//Event Calendar 2.0//EN
METHOD:PUBLISH
X-PUBLISHED-TTL:P3D
REFRESH-INTERVAL:P3D
CALSCALE:GREGORIAN
BEGIN:VEVENT
DTSTART:20160410T210000Z
DTEND:20160410T230000Z
X-MICROSOFT-CDO-ALLDAYEVENT:FALSE
SUMMARY:Jean Hegland Reading
DESCRIPTION:A free literary reading by author Jean Hegland will be presented on Sunday\, April 10\, by the Lake County Friends of Mendocino College and the Friends of the Mendocino College Library\, affiliates of the Mendocino College Foundation\, Inc.  The program will begin at 2:00 p.m. in Room 7050 of the Lake Center at 2565 Parallel Drive in Lakeport.  Hegland's first novel\, Into the Forest\, has been translated into twelve languages and taught in many community- and campus-wide reading programs.  A film adaptation starring Ellen Page and Even Rachel Wood is being released this spring.  Her other books include the novel\, Windfalls\; a nonfiction book\, The Life Within: Celebration of a Pregnancy\; and her latest novel\, Still Time.  She is a frequent presenter at writing workshops and conferences.  In addition to teaching at Santa Rosa Junior College\, Hegland has taught overseas in Sicily\, England\, and Germany.  The two affiliates jointly present a literary program during the spring and fall semesters at the Lake Center\, most recently collaborating with the Lake County Library to open the book discussions around To Kill A Mockingbird in the Lake County Big Read last October.  For more information\, call (707) 468-3051\, (707) 263-4944\, or visit the College website at www.mendocino.edu.
X-ALT-DESC;FMTTYPE=text/html:<p>A <strong>free literary reading by author Jean Hegland</strong> will be presented on <strong>Sunday\, April 10\,</strong> by the Lake County Friends of Mendocino College and the Friends of the Mendocino College Library\, affiliates of the Mendocino College Foundation\, Inc. &nbsp\;The program will begin at <strong>2:00 p.m. in Room 7050 of the Lake Center </strong>at 2565 Parallel Drive in Lakeport.</p>  <p>Hegland&#39\;s first novel\, <em>Into the Forest</em>\, has been translated into twelve languages and taught in&nbsp\;many community- and campus-wide reading programs. &nbsp\;A film adaptation starring Ellen Page and Even Rachel Wood is being released this spring. &nbsp\;Her other books include the novel\, <em>Windfalls</em>\; a nonfiction book\, <em>The</em> <em>Life Within: Celebration of a Pregnancy</em>\; and her latest novel\, <em>Still Time</em>.</p>  <p>She is a frequent presenter at writing workshops and conferences. &nbsp\;In addition to teaching at Santa Rosa Junior College\, Hegland has taught overseas in Sicily\, England\, and Germany.</p>  <p>The two affiliates jointly present a literary program during the spring and fall semesters at the Lake Center\, most recently collaborating with the Lake County Library to open the book discussions around <em>To Kill A Mockingbird</em>&nbsp\;in the Lake County Big Read last October.</p>  <p>For more information\, call (707) 468-3051\, (707) 263-4944\, or visit the College website at www.mendocino.edu.</p> 
LOCATION:Mendocino College Lake Center
UID:e.1531.3460
SEQUENCE:3
DTSTAMP:20260421T054410Z
URL:https://members.psaeger.com/events/details/jean-hegland-reading-04-10-2016-3460
END:VEVENT

END:VCALENDAR
