BEGIN:VCALENDAR
VERSION:2.0
PRODID:-//ChamberMaster//Event Calendar 2.0//EN
METHOD:PUBLISH
X-PUBLISHED-TTL:P3D
REFRESH-INTERVAL:P3D
CALSCALE:GREGORIAN
BEGIN:VEVENT
DTSTART:20160522T173000Z
DTEND:20160522T220000Z
X-MICROSOFT-CDO-ALLDAYEVENT:FALSE
SUMMARY:Jay Watkins at Blue Wing Sunday Brunch
DESCRIPTION:Enjoy a great brunch from 10:30 to 3:00 with live music inside or out in the garden in good weather from 11:30 to 2:00. Music today is by guitarist Jay Watkins.
X-ALT-DESC;FMTTYPE=text/html:<p>Enjoy a great brunch from 10:30 to 3:00 with live music inside or out in the garden in good weather from 11:30 to 2:00. Music today is by guitarist Jay Watkins.</p> 
LOCATION:Blue Wing Restaurant
UID:e.1531.3405
SEQUENCE:3
DTSTAMP:20260421T042232Z
URL:https://members.psaeger.com/events/details/jay-watkins-at-blue-wing-sunday-brunch-05-22-2016-3405
END:VEVENT

END:VCALENDAR
