BEGIN:VCALENDAR
VERSION:2.0
PRODID:-//ChamberMaster//Event Calendar 2.0//EN
METHOD:PUBLISH
X-PUBLISHED-TTL:P3D
REFRESH-INTERVAL:P3D
CALSCALE:GREGORIAN
BEGIN:VEVENT
DTSTART:20160618T000000Z
DTEND:20160618T030000Z
X-MICROSOFT-CDO-ALLDAYEVENT:FALSE
SUMMARY:J. Silverheels - Concert on the Green
DESCRIPTION:Concerts on the Green  Open to the Public 3rd Friday of the Month\n 5:00pm-8:00pm  June 17    J. Silverheels     Next: July 15    California Groove
X-ALT-DESC;FMTTYPE=text/html:<h1 style="text-align: center\;"><span style="color:#008000\;">Concerts on the Green</span></h1>  <p style="text-align: center\;"><span style="color:#008000\;">Open to the Public 3rd Friday of the Month<br /> 5:00pm-8:00pm</span></p>  <p style="text-align: center\;">June 17 &nbsp\;&nbsp\;&nbsp\;J. Silverheels</p>  <p style="text-align: center\;">&nbsp\;</p>  <p>Next: <span style="font-size:16px\;"><a href="http://www2.lakecochamber.com/calendar/w/id/19966/event-details.asp">July 15 &nbsp\;&nbsp\;&nbsp\;California Groove</a></span></p>  <p style="text-align: center\;">&nbsp\;</p> 
LOCATION:Hidden Valley Lake - Behind the Greenview Restaurant
UID:e.1531.3504
SEQUENCE:3
DTSTAMP:20260421T023523Z
URL:https://members.psaeger.com/events/details/j-silverheels-concert-on-the-green-06-17-2016-3504
END:VEVENT

END:VCALENDAR
