BEGIN:VCALENDAR
VERSION:2.0
PRODID:-//ChamberMaster//Event Calendar 2.0//EN
METHOD:PUBLISH
X-PUBLISHED-TTL:P3D
REFRESH-INTERVAL:P3D
CALSCALE:GREGORIAN
BEGIN:VEVENT
DTSTART:20160604T190000Z
DTEND:20160604T190000Z
X-MICROSOFT-CDO-ALLDAYEVENT:FALSE
SUMMARY:International Glamping Weekend @ Shady Acres Camp
DESCRIPTION:International Glamping Weekend at Shady Acres Campground!\n \n Vintage trailers welcome!  $99 for the weekend for two people per campsite. Each extra person $10. Max four people/site.  No Public Tour. Registered Guests Only.  \n Family friendly weekend...pets allowed too!\n \n Check in Friday June 3 and check out Sunday June 5\, 2016.\n \n Friday evening welcome reception hosted by Shady Acres Campground.\n \n Saturday morning coffee and pastries hosted by Shady Acres Campground. Pajamas and pearls\, right?!\n \n Saturday relax in the campground with fishing and kayaking on the creek or hit the road and explore Lake County for hiking\, wine tasting\, junking and more.\n \n Kayak rentals (two hours) included in your camp fees.\n \n Two rounds of old fashioned mini golf included in your camp fees.\n \n Sunday make plans to return before you head home.\n \n $99 for the weekend for two people per campsite. Each extra person $10. Max four people/site.\n \n Full hookups on the waterfront.\n \n Electric & water sites off the waterfront.\n \n Reservations: Lisa at shadyacresclearlake@gmail.com
X-ALT-DESC;FMTTYPE=text/html:<p style="text-align: center\;"><span style="color: rgb(131\, 114\, 83)\; font-family: Arial\, Helvetica\, sans-serif\; font-size: 13px\; line-height: 19.5px\; text-align: center\;"><font color="#24678d" size="3"><strong>International Glamping Weekend at Shady Acres Campground!</strong></font></span><br style="color: rgb(131\, 114\, 83)\; font-family: Arial\, Helvetica\, sans-serif\; font-size: 13px\; line-height: 19.5px\; text-align: center\;" /> <br style="color: rgb(131\, 114\, 83)\; font-family: Arial\, Helvetica\, sans-serif\; font-size: 13px\; line-height: 19.5px\; text-align: center\;" /> <span style="color: rgb(131\, 114\, 83)\; font-family: Arial\, Helvetica\, sans-serif\; font-size: 13px\; line-height: 19.5px\; text-align: center\;">Vintage trailers welcome!</span></p>  <p style="text-align: center\;"><span style="color: rgb(131\, 114\, 83)\; font-family: Arial\, Helvetica\, sans-serif\; font-size: 13px\; line-height: 19.5px\; text-align: center\;">$99 for the weekend for two people per campsite. Each extra person $10. Max four people/site.</span></p>  <p style="text-align: center\;"><span style="color: rgb(131\, 114\, 83)\; font-family: Arial\, Helvetica\, sans-serif\; font-size: 13px\; line-height: 19.5px\; text-align: center\;">No Public Tour. Registered Guests Only.</span></p>  <p style="text-align: center\;"><br style="color: rgb(131\, 114\, 83)\; font-family: Arial\, Helvetica\, sans-serif\; font-size: 13px\; line-height: 19.5px\; text-align: center\;" /> <span style="color: rgb(131\, 114\, 83)\; font-family: Arial\, Helvetica\, sans-serif\; font-size: 13px\; line-height: 19.5px\; text-align: center\;">Family friendly weekend...pets allowed too!</span><br style="color: rgb(131\, 114\, 83)\; font-family: Arial\, Helvetica\, sans-serif\; font-size: 13px\; line-height: 19.5px\; text-align: center\;" /> <br style="color: rgb(131\, 114\, 83)\; font-family: Arial\, Helvetica\, sans-serif\; font-size: 13px\; line-height: 19.5px\; text-align: center\;" /> <span style="color: rgb(131\, 114\, 83)\; font-family: Arial\, Helvetica\, sans-serif\; font-size: 13px\; line-height: 19.5px\; text-align: center\;">Check in Friday June 3 and check out Sunday June 5\, 2016.</span><br style="color: rgb(131\, 114\, 83)\; font-family: Arial\, Helvetica\, sans-serif\; font-size: 13px\; line-height: 19.5px\; text-align: center\;" /> <br style="color: rgb(131\, 114\, 83)\; font-family: Arial\, Helvetica\, sans-serif\; font-size: 13px\; line-height: 19.5px\; text-align: center\;" /> <span style="color: rgb(131\, 114\, 83)\; font-family: Arial\, Helvetica\, sans-serif\; font-size: 13px\; line-height: 19.5px\; text-align: center\;">Friday evening welcome reception hosted by Shady Acres Campground.</span><br style="color: rgb(131\, 114\, 83)\; font-family: Arial\, Helvetica\, sans-serif\; font-size: 13px\; line-height: 19.5px\; text-align: center\;" /> <br style="color: rgb(131\, 114\, 83)\; font-family: Arial\, Helvetica\, sans-serif\; font-size: 13px\; line-height: 19.5px\; text-align: center\;" /> <span style="color: rgb(131\, 114\, 83)\; font-family: Arial\, Helvetica\, sans-serif\; font-size: 13px\; line-height: 19.5px\; text-align: center\;">Saturday morning coffee and pastries hosted by Shady Acres Campground.&nbsp\;Pajamas and pearls\, right?!</span><br style="color: rgb(131\, 114\, 83)\; font-family: Arial\, Helvetica\, sans-serif\; font-size: 13px\; line-height: 19.5px\; text-align: center\;" /> <br style="color: rgb(131\, 114\, 83)\; font-family: Arial\, Helvetica\, sans-serif\; font-size: 13px\; line-height: 19.5px\; text-align: center\;" /> <span style="color: rgb(131\, 114\, 83)\; font-family: Arial\, Helvetica\, sans-serif\; font-size: 13px\; line-height: 19.5px\; text-align: center\;">Saturday relax in the campground with fishing and kayaking on the creek or hit the road and explore Lake County for hiking\, wine tasting\, junking and more.</span><br style="color: rgb(131\, 114\, 83)\; font-family: Arial\, Helvetica\, sans-serif\; font-size: 13px\; line-height: 19.5px\; text-align: center\;" /> <br style="color: rgb(131\, 114\, 83)\; font-family: Arial\, Helvetica\, sans-serif\; font-size: 13px\; line-height: 19.5px\; text-align: center\;" /> <span style="color: rgb(131\, 114\, 83)\; font-family: Arial\, Helvetica\, sans-serif\; font-size: 13px\; line-height: 19.5px\; text-align: center\;">Kayak rentals (two hours) included in your camp fees.<br /> <br /> Two rounds of old fashioned mini golf included in your camp fees.</span><br style="color: rgb(131\, 114\, 83)\; font-family: Arial\, Helvetica\, sans-serif\; font-size: 13px\; line-height: 19.5px\; text-align: center\;" /> <br style="color: rgb(131\, 114\, 83)\; font-family: Arial\, Helvetica\, sans-serif\; font-size: 13px\; line-height: 19.5px\; text-align: center\;" /> <span style="color: rgb(131\, 114\, 83)\; font-family: Arial\, Helvetica\, sans-serif\; font-size: 13px\; line-height: 19.5px\; text-align: center\;">Sunday make plans to return before you head home.</span><br style="color: rgb(131\, 114\, 83)\; font-family: Arial\, Helvetica\, sans-serif\; font-size: 13px\; line-height: 19.5px\; text-align: center\;" /> <br style="color: rgb(131\, 114\, 83)\; font-family: Arial\, Helvetica\, sans-serif\; font-size: 13px\; line-height: 19.5px\; text-align: center\;" /> <span style="color: rgb(131\, 114\, 83)\; font-family: Arial\, Helvetica\, sans-serif\; font-size: 13px\; line-height: 19.5px\; text-align: center\;">$99 for the weekend for two people per campsite. Each extra person $10. Max four people/site.<br /> <br /> Full hookups on the waterfront.<br /> <br /> Electric &amp\; water sites off the waterfront.</span><br style="color: rgb(131\, 114\, 83)\; font-family: Arial\, Helvetica\, sans-serif\; font-size: 13px\; line-height: 19.5px\; text-align: center\;" /> <br style="color: rgb(131\, 114\, 83)\; font-family: Arial\, Helvetica\, sans-serif\; font-size: 13px\; line-height: 19.5px\; text-align: center\;" /> <font color="#24678d" style="font-family: Arial\, Helvetica\, sans-serif\; font-size: 13px\; line-height: 19.5px\; text-align: center\;">Reservations: Lisa at shadyacresclearlake@gmail.com</font></p> 
LOCATION:Shady Acres Campground Clearlake
UID:e.1531.3282
SEQUENCE:3
DTSTAMP:20260421T023435Z
URL:https://members.psaeger.com/events/details/international-glamping-weekend-shady-acres-camp-06-04-2016-3282
END:VEVENT

END:VCALENDAR
