BEGIN:VCALENDAR
VERSION:2.0
PRODID:-//ChamberMaster//Event Calendar 2.0//EN
METHOD:PUBLISH
X-PUBLISHED-TTL:P3D
REFRESH-INTERVAL:P3D
CALSCALE:GREGORIAN
BEGIN:VEVENT
DTSTART:20160917T190000Z
DTEND:20160918T000000Z
X-MICROSOFT-CDO-ALLDAYEVENT:FALSE
SUMMARY:Indian Days
DESCRIPTION:Twin Pine Casino & Hotel  Enrich yourself in this Cultural Experience!  Annual Indian Day Celebration - Saturday September 17\, 2016\, Noon - 5:00pm.    We will have an opening prayer\, traditional dances\,  native cuisine\, vendors\, live music.    Free admission  For more information go to:  www.twinpine.com
X-ALT-DESC;FMTTYPE=text/html:<h1 style="text-align: center\;"><span style="color:#800000\;">Twin Pine Casino &amp\; Hotel</span></h1>  <p style="text-align: center\;"><strong><span style="color:#000000\;">Enrich yourself in this Cultural Experience!</span></strong></p>  <p style="text-align: center\;"><strong>Annual Indian Day Celebration - Saturday September 17\, 2016\,&nbsp\;Noon - 5:00pm.</strong> &nbsp\;</p>  <h4 style="text-align: center\;"><strong>We will have an opening prayer\, traditional dances\,</strong></h4>  <h4 style="text-align: center\;"><strong>native cuisine\, vendors\, live music. &nbsp\;</strong></h4>  <h4 style="text-align: center\;">Free admission</h4>  <h4 style="text-align: center\;">For more information go to:</h4>  <p style="text-align: center\;"><u><span style="color:#0000CD\;">www.twinpine.com</span></u></p>  <div style="text-align: center\;">&nbsp\;</div> 
LOCATION:Twin Pine Casino & Hotel
UID:e.1531.3744
SEQUENCE:3
DTSTAMP:20260420T211741Z
URL:https://members.psaeger.com/events/details/indian-days-09-17-2016-3744
END:VEVENT

END:VCALENDAR
