BEGIN:VCALENDAR
VERSION:2.0
PRODID:-//ChamberMaster//Event Calendar 2.0//EN
METHOD:PUBLISH
X-PUBLISHED-TTL:P3D
REFRESH-INTERVAL:P3D
CALSCALE:GREGORIAN
BEGIN:VEVENT
DTSTART:20160521T023000Z
DTEND:20160521T040000Z
X-MICROSOFT-CDO-ALLDAYEVENT:FALSE
SUMMARY:Ickes & Hensley at Tallman Concert
DESCRIPTION:The Tallman Hotel's Concerts with Conversation is a series of intimate but informal concerts held for an audience of about 40 people in Riffe's Meeting House next to the hotel.  The monthly winter and spring performances\, in a variety of musical genres\, feature some of Northern California's top musicians.\n \n As a bonus concert this year\, the unmatched Nashville based dobro master ROB ICKES will appear with the up-and-coming country singer-songwriter TREY HENSLEY.  This event will be a sure sell-out.
X-ALT-DESC;FMTTYPE=text/html:<p>The Tallman Hotel&rsquo\;s <strong>Concerts with Conversation</strong> is a series of intimate but informal concerts held for an audience of about 40 people in Riffe&rsquo\;s&nbsp\;Meeting House next to the hotel. &nbsp\;The monthly winter&nbsp\;and&nbsp\;spring performances\, in a variety of musical genres\, feature&nbsp\;some of&nbsp\;Northern California&rsquo\;s&nbsp\;top musicians.<br /> <br /> As a bonus concert this year\, the unmatched Nashville based dobro master ROB ICKES will appear with the up-and-coming country singer-songwriter TREY HENSLEY.&nbsp\; This event will be a sure sell-out.</p> 
LOCATION:Tallman Meeting House
UID:e.1531.3502
SEQUENCE:3
DTSTAMP:20260421T042231Z
URL:https://members.psaeger.com/events/details/ickes-hensley-at-tallman-concert-05-20-2016-3502
END:VEVENT

END:VCALENDAR
