BEGIN:VCALENDAR
VERSION:2.0
PRODID:-//ChamberMaster//Event Calendar 2.0//EN
METHOD:PUBLISH
X-PUBLISHED-TTL:P3D
REFRESH-INTERVAL:P3D
CALSCALE:GREGORIAN
BEGIN:VEVENT
DTSTART:20160618T200000Z
DTEND:20160619T000000Z
X-MICROSOFT-CDO-ALLDAYEVENT:FALSE
SUMMARY:Home Wine & Beer Makers Festival
DESCRIPTION:SAVE THE DATE.
X-ALT-DESC;FMTTYPE=text/html:<p>SAVE THE DATE.</p> 
LOCATION:Library Park\, Lakeport
UID:e.1531.3302
SEQUENCE:3
DTSTAMP:20260421T023353Z
URL:https://members.psaeger.com/events/details/home-wine-beer-makers-festival-06-18-2016-3302
END:VEVENT

END:VCALENDAR
