BEGIN:VCALENDAR
VERSION:2.0
PRODID:-//ChamberMaster//Event Calendar 2.0//EN
METHOD:PUBLISH
X-PUBLISHED-TTL:P3D
REFRESH-INTERVAL:P3D
CALSCALE:GREGORIAN
BEGIN:VEVENT
DTSTART:20160517T013000Z
DTEND:20160517T043000Z
X-MICROSOFT-CDO-ALLDAYEVENT:FALSE
SUMMARY:Holly Near Concert
DESCRIPTION:Holly Near with Barbara Higbie & Jan Martinelli  Presented by Lake County Community Radio\, KPFZ\, 88.1 FM  Known as one of the founders of the Women's Music movement\, Holly Near performs with Barbara Higbie\, a Grammy-nominated\, Bammy award winning composer\, pianist\, singer-songwriter and multi-instrumentalist.  Completing the amazing trio is Jan Martinelli\, a recognized master of the electric bass guitar\, who performed with Holly when she was here in 2014.  Reserved Seating  $25 - Premium  $20 - General  $15 - Side Loge  KPFZ membership Discount - $2.00 off  Must show your card at the box office or The Travel Center when purchasing tickets. Discount not available online.  The Dance floor will not be open.
X-ALT-DESC;FMTTYPE=text/html:<p>Holly Near with&nbsp\;Barbara Higbie &amp\; Jan Martinelli</p>  <p>Presented by&nbsp\;Lake County Community Radio\,&nbsp\;KPFZ\, 88.1 FM</p>  <p>Known as one of the founders of the Women&#39\;s Music movement\, Holly Near performs with Barbara Higbie\, a Grammy-nominated\, Bammy award winning composer\, pianist\, singer-songwriter and multi-instrumentalist.&nbsp\; Completing the amazing trio is Jan Martinelli\, a recognized master of the electric bass guitar\, who performed with Holly when she was here in 2014.</p>  <p>Reserved Seating</p>  <p>$25 - Premium</p>  <p>$20 - General</p>  <p>$15 - Side Loge</p>  <p>KPFZ membership Discount - $2.00 off</p>  <p>Must show your card at the box office or The Travel Center when purchasing tickets. Discount not available online.</p>  <p>The Dance floor will not be open.&nbsp\;</p> 
LOCATION:Soper Reese Theatre\, 275 S. Main St.\, Lakeport
UID:e.1531.3737
SEQUENCE:3
DTSTAMP:20260421T042212Z
URL:https://members.psaeger.com/events/details/holly-near-concert-05-16-2016-3737
END:VEVENT

END:VCALENDAR
