BEGIN:VCALENDAR
VERSION:2.0
PRODID:-//ChamberMaster//Event Calendar 2.0//EN
METHOD:PUBLISH
X-PUBLISHED-TTL:P3D
REFRESH-INTERVAL:P3D
CALSCALE:GREGORIAN
BEGIN:VEVENT
DTSTART:20160428T180000Z
DTEND:20160428T210000Z
X-MICROSOFT-CDO-ALLDAYEVENT:FALSE
SUMMARY:Historic Ranch Day Trip
DESCRIPTION:Historic Ranch Day Trip with Chuckwagon BB-Q featuring Sprintime Wildflowers  Tickets cost $60 for adults\, $50 for seniors\, $40 for kids ages 5-12.\n Children ages 5 and under are free when accompanied by an adult.\n Reservations are required and seating is limited.  Tours run rain or shine\n and until Mother Nature sends the flowers to bed!     707-998-4471  elevenrosesranch@pacific.net  www.elevenrosesranch.com
X-ALT-DESC;FMTTYPE=text/html:<p>Historic Ranch Day Trip with Chuckwagon BB-Q featuring Sprintime Wildflowers</p>  <p>Tickets cost $60 for adults\, $50 for seniors\, $40 for kids ages 5-12.<br /> Children ages 5 and under are free when accompanied by an adult.<br /> Reservations are required and seating is limited.&nbsp\; Tours run rain or shine<br /> and until Mother Nature sends the flowers to bed!</p>  <p>&nbsp\;</p>  <p>707-998-4471</p>  <p><a href="mailto:elevenrosesranch@pacific.net"><font color="#0066cc">elevenrosesranch@pacific.net</font></a></p>  <p><a href="http://www.elevenrosesranch.com/"><font color="#800080">www.elevenrosesranch.com</font></a></p> 
LOCATION:Clearlake Oaks
UID:e.1531.3256
SEQUENCE:3
DTSTAMP:20260421T054208Z
URL:https://members.psaeger.com/events/details/historic-ranch-day-trip-04-28-2016-3256
END:VEVENT

END:VCALENDAR
