BEGIN:VCALENDAR
VERSION:2.0
PRODID:-//ChamberMaster//Event Calendar 2.0//EN
METHOD:PUBLISH
X-PUBLISHED-TTL:P3D
REFRESH-INTERVAL:P3D
CALSCALE:GREGORIAN
BEGIN:VEVENT
DTSTART:20170523T160000Z
DTEND:20170523T200000Z
X-MICROSOFT-CDO-ALLDAYEVENT:FALSE
SUMMARY:Hike 4 Healing
DESCRIPTION:
X-ALT-DESC;FMTTYPE=text/html:
LOCATION:
UID:e.1531.3779
SEQUENCE:3
DTSTAMP:20260420T081107Z
URL:https://members.psaeger.com/events/details/hike-4-healing-3779
END:VEVENT

END:VCALENDAR
