BEGIN:VCALENDAR
VERSION:2.0
PRODID:-//ChamberMaster//Event Calendar 2.0//EN
METHOD:PUBLISH
X-PUBLISHED-TTL:P3D
REFRESH-INTERVAL:P3D
CALSCALE:GREGORIAN
BEGIN:VEVENT
DTSTART:20160430T160000Z
DTEND:20160430T200000Z
X-MICROSOFT-CDO-ALLDAYEVENT:FALSE
SUMMARY:Hike 4 Healing
DESCRIPTION:Friends and supporters of Worldwide Healing Hands (WHH) will gather Saturday\, April 30\, to walk Mount Konocti's Wright Summit Trail during the third annual "Hike 4 Healing." The yearly trek is a fundraiser to support the work of Worldwide Healing Hands in Lake County and in underserved areas of the world.   Hike participants will traverse a little more than 6 miles round-trip\, with an elevation gain of 1\,600 feet\, along the trail.   Entrance fee for the hike is $25 per person. There is no charge for children under the age of 12 to participate. Participants may register at Dhanda's office at 5685 Main Street\, Kelseyville\, call (707) 279-8733\, or visit the WHH's website\, www.worldwidehealinghands.org\,
X-ALT-DESC;FMTTYPE=text/html:<p style="margin-bottom: 0px\; font-size: 11px\; line-height: normal\; font-family: Helvetica\; -webkit-text-stroke-color: rgb(0\, 0\, 0)\; -webkit-text-stroke-width: initial\;">Friends and supporters of Worldwide Healing Hands (WHH) will gather Saturday\, April 30\, to walk Mount Konocti&rsquo\;s Wright Summit Trail during the third annual &ldquo\;Hike 4 Healing.&rdquo\; The yearly trek is a fundraiser to support the work of Worldwide Healing Hands in Lake County and in underserved areas of the world.&nbsp\;</p>  <p style="margin-bottom: 0px\; font-size: 11px\; line-height: normal\; font-family: Helvetica\; -webkit-text-stroke-color: rgb(0\, 0\, 0)\; -webkit-text-stroke-width: initial\; min-height: 13px\;">Hike participants will traverse a little more than 6 miles round-trip\, with an elevation gain of 1\,600 feet\, along the trail.&nbsp\;</p>  <p style="margin-bottom: 0px\; font-size: 11px\; line-height: normal\; font-family: Helvetica\; -webkit-text-stroke-color: rgb(0\, 0\, 0)\; -webkit-text-stroke-width: initial\; min-height: 13px\;">Entrance fee for the hike is $25 per person. There is no charge for children under the age of 12 to participate.&nbsp\;Participants may register at Dhanda&rsquo\;s office at 5685 Main Street\, Kelseyville\, call (707) 279-8733\,&nbsp\;or visit the WHH&rsquo\;s website\, <a href="http://www.worldwidehealinghands.org">www.worldwidehealinghands.org</a>\,</p> 
LOCATION:Wright's Peak\, Mount Konocti
UID:e.1531.3475
SEQUENCE:3
DTSTAMP:20260421T054203Z
URL:https://members.psaeger.com/events/details/hike-4-healing-04-30-2016-3475
END:VEVENT

END:VCALENDAR
