BEGIN:VCALENDAR
VERSION:2.0
PRODID:-//ChamberMaster//Event Calendar 2.0//EN
METHOD:PUBLISH
X-PUBLISHED-TTL:P3D
REFRESH-INTERVAL:P3D
CALSCALE:GREGORIAN
BEGIN:VEVENT
DTSTART:20160403T030000Z
DTEND:20160403T065900Z
X-MICROSOFT-CDO-ALLDAYEVENT:FALSE
SUMMARY:Hearts & Bones at the Village Pub
DESCRIPTION:Live music at the Village Pub. " Hearts & Bones" play from 8 to midnight. 16365 highway 175\, Cobb   928 4500
X-ALT-DESC;FMTTYPE=text/html:<p>Live music at the Village Pub. &quot\; Hearts &amp\; Bones&quot\; play from 8 to midnight. 16365 highway 175\, Cobb&nbsp\;&nbsp\; 928 4500</p> 
LOCATION:The Village Pub
UID:e.1531.3468
SEQUENCE:3
DTSTAMP:20260421T054446Z
URL:https://members.psaeger.com/events/details/hearts-bones-at-the-village-pub-04-02-2016-3468
END:VEVENT

END:VCALENDAR
