BEGIN:VCALENDAR
VERSION:2.0
PRODID:-//ChamberMaster//Event Calendar 2.0//EN
METHOD:PUBLISH
X-PUBLISHED-TTL:P3D
REFRESH-INTERVAL:P3D
CALSCALE:GREGORIAN
BEGIN:VEVENT
DTSTART:20160614T013000Z
DTEND:20160614T040000Z
X-MICROSOFT-CDO-ALLDAYEVENT:FALSE
SUMMARY:Harriet Lewis at Blue Wing Monday Blues
DESCRIPTION:Local\, Bay Area and touring blues bands perform at the Blue Wing at dinner time each Monday evening. It's great food in a lively and danceable atmosphere. There's no cover but reservations are suggested\, either inside or out on our heated veranda. Tonight we feature the raucus gospel blues singer Harriet Lewis together with an all-star backing band.
X-ALT-DESC;FMTTYPE=text/html:<p>Local\, Bay Area and touring blues bands perform at the Blue Wing at dinner time each Monday evening. It&#39\;s great food in a lively and danceable atmosphere. There&#39\;s no cover but reservations are suggested\, either inside or out on our heated veranda. Tonight we feature the raucus gospel blues singer Harriet Lewis together with an all-star backing band.</p> 
LOCATION:Blue Wing Restaurant
UID:e.1531.3420
SEQUENCE:3
DTSTAMP:20260421T023435Z
URL:https://members.psaeger.com/events/details/harriet-lewis-at-blue-wing-monday-blues-06-13-2016-3420
END:VEVENT

END:VCALENDAR
