BEGIN:VCALENDAR
VERSION:2.0
PRODID:-//ChamberMaster//Event Calendar 2.0//EN
METHOD:PUBLISH
X-PUBLISHED-TTL:P3D
REFRESH-INTERVAL:P3D
CALSCALE:GREGORIAN
BEGIN:VEVENT
DTSTART:20160521T000000Z
DTEND:20160524T030000Z
X-MICROSOFT-CDO-ALLDAYEVENT:FALSE
SUMMARY:Funky Dozen - Concert on the Green
DESCRIPTION:Concerts on the Green\n\nOpen to the Public 3rd Friday of the Month\n\n5:00pm-8:00pm\n\nMay 20    Funky Dozen\n\n \n\nNext: June 17    J. Silverheels
X-ALT-DESC;FMTTYPE=text/html:<h1 style="text-align: center\;"><span style="color:#008000\;">Concerts on the Green</span></h1>\n\n<p style="text-align: center\;"><span style="color:#008000\;">Open to the Public 3rd Friday of the Month<br />\n5:00pm-8:00pm</span></p>\n\n<p style="text-align: center\;">May 20 &nbsp\;&nbsp\;&nbsp\;Funky Dozen</p>\n\n<p style="text-align: center\;">&nbsp\;</p>\n\n<p>Next: <span style="font-size:16px\;"><strong><a href="http://www2.lakecochamber.com/calendar/w/id/19967/event-details.asp">June 17 &nbsp\;&nbsp\;&nbsp\;J. Silverheels</a></strong></span></p>\n\n<p style="text-align: center\;">&nbsp\;</p>\n
LOCATION:Hidden Valley Lake - Behind the Greenview Restaurant
UID:e.1531.3503
SEQUENCE:3
DTSTAMP:20260421T042255Z
URL:https://members.psaeger.com/events/details/funky-dozen-concert-on-the-green-05-20-2016-3503
END:VEVENT

END:VCALENDAR
