BEGIN:VCALENDAR
VERSION:2.0
PRODID:-//ChamberMaster//Event Calendar 2.0//EN
METHOD:PUBLISH
X-PUBLISHED-TTL:P3D
REFRESH-INTERVAL:P3D
CALSCALE:GREGORIAN
BEGIN:VEVENT
DTSTART:20160221T170000Z
DTEND:20160221T190000Z
X-MICROSOFT-CDO-ALLDAYEVENT:FALSE
SUMMARY:Friends of Boggs Mtn: Trail Maintenance
DESCRIPTION:Please join the Friends of Boggs Mountain on Sunday\, February 21 for  trail work behind Cobb Elementary School (Boggs property)     Allow 2-3 hours\; bring water\, work gloves and a hand tool such as loppers or clippers. We'll also have tools available.  Please meet at Cobb Elementary parking lot and contact David Thiessen for more info: 707-295-5972
X-ALT-DESC;FMTTYPE=text/html:<h3>Please join the <span style="color:#66cc66\;">Friends of Boggs Mountain</span> on Sunday\, February 21 <span style="color:#66cc66\;">for</span></h3>  <h3><span style="color:#66cc66\;">trail work behind Cobb Elementary School (Boggs property)</span></h3>  <p>&nbsp\;</p>  <p><strong>Allow 2-3 hours</strong>\; bring water\, work gloves and a hand tool such as loppers or clippers. We&#39\;ll also have tools available.</p>  <p>Please <strong>meet at Cobb Elementary parking lot </strong>and contact <strong>David Thiessen for more info: 707-295-5972</strong></p> 
LOCATION:Cobb Elementary parking lot
UID:e.1531.3194
SEQUENCE:3
DTSTAMP:20260421T085342Z
URL:https://members.psaeger.com/events/details/friends-of-boggs-mtn-trail-maintenance-02-21-2016-3194
END:VEVENT

END:VCALENDAR
