BEGIN:VCALENDAR
VERSION:2.0
PRODID:-//ChamberMaster//Event Calendar 2.0//EN
METHOD:PUBLISH
X-PUBLISHED-TTL:P3D
REFRESH-INTERVAL:P3D
CALSCALE:GREGORIAN
BEGIN:VEVENT
DTSTART:20160410T030000Z
DTEND:20160410T064500Z
X-MICROSOFT-CDO-ALLDAYEVENT:FALSE
SUMMARY:FREE Concert with DECADES
DESCRIPTION:Join us at Konocti Vista Casino banquet room for a FREE Concert with NORCAL's favorite band\, Decades. This is a terrific\, high energy band that plays a vast song list from the 1950's to Katie Perry. Dust off your dancing shoes and bring your friends to this free concert. April 9th. Show starts at 8pm. This is a 21 and older event.  For more information: 262-1900  Management Reserves All Rights.
X-ALT-DESC;FMTTYPE=text/html:<p>Join us at Konocti Vista Casino banquet room for a FREE Concert with NORCAL&#39\;s favorite band\, Decades. This is a terrific\, high energy band that plays a vast song list from the 1950&#39\;s to Katie Perry. Dust off your dancing shoes and bring your friends to this free concert. April 9th. Show starts at 8pm. This is a 21 and older event.</p>  <p>For more information: 262-1900</p>  <p>Management Reserves All Rights.</p> 
LOCATION:Konocti Vista Casino
UID:e.1531.3494
SEQUENCE:3
DTSTAMP:20260421T054439Z
URL:https://members.psaeger.com/events/details/free-concert-with-decades-04-09-2016-3494
END:VEVENT

END:VCALENDAR
