BEGIN:VCALENDAR
VERSION:2.0
PRODID:-//ChamberMaster//Event Calendar 2.0//EN
METHOD:PUBLISH
X-PUBLISHED-TTL:P3D
REFRESH-INTERVAL:P3D
CALSCALE:GREGORIAN
BEGIN:VEVENT
DTSTART:20160521T160000Z
DTEND:20160522T010000Z
X-MICROSOFT-CDO-ALLDAYEVENT:FALSE
SUMMARY:FIRST ANNUAL DKI SOFTBALL TOURNAMENT
DESCRIPTION:Come out and enjoy watching the teams play.  Food\, gift bags and fun.  Call Sinda to enter your team in the games or come out and just have fun\; $100 entry fee per team.  The winning team submits profits to the nonprofit organization of their choice.     Sign up now\; call Sinda at 707-355-1099.
X-ALT-DESC;FMTTYPE=text/html:<p>Come out and enjoy watching the teams play. &nbsp\;Food\, gift bags and fun. &nbsp\;Call Sinda to enter your team in the games&nbsp\;or come out and just have fun\; $100 entry fee per team. &nbsp\;The winning team submits profits to the nonprofit organization of their choice.</p>  <p>&nbsp\;</p>  <p>Sign up now\; call Sinda at 707-355-1099.</p> 
LOCATION:County Park\, Park Drive
UID:e.1531.3738
SEQUENCE:3
DTSTAMP:20260421T042212Z
URL:https://members.psaeger.com/events/details/first-annual-dki-softball-tournament-05-21-2016-3738
END:VEVENT

END:VCALENDAR
