BEGIN:VCALENDAR
VERSION:2.0
PRODID:-//ChamberMaster//Event Calendar 2.0//EN
METHOD:PUBLISH
X-PUBLISHED-TTL:P3D
REFRESH-INTERVAL:P3D
CALSCALE:GREGORIAN
BEGIN:VEVENT
DTSTART:20160724T100000Z
DTEND:20160724T120000Z
X-MICROSOFT-CDO-ALLDAYEVENT:FALSE
SUMMARY:Fireside Chat
DESCRIPTION:Ellen Klages\, author of a wonderfully well-researched book on the history of Harbin Hot Springs and the south Lake County area\, will share some history of early natives. Sunday July 24.
X-ALT-DESC;FMTTYPE=text/html:<p>Ellen Klages\, author of a wonderfully well-researched book on the history of Harbin Hot Springs and the south Lake County area\, will share some history of early natives. Sunday July 24.</p> 
LOCATION:Gibson Museum\, Middletown
UID:e.1531.3732
SEQUENCE:3
DTSTAMP:20260421T004054Z
URL:https://members.psaeger.com/events/details/fireside-chat-07-24-2016-3732
END:VEVENT

END:VCALENDAR
