BEGIN:VCALENDAR
VERSION:2.0
PRODID:-//ChamberMaster//Event Calendar 2.0//EN
METHOD:PUBLISH
X-PUBLISHED-TTL:P3D
REFRESH-INTERVAL:P3D
CALSCALE:GREGORIAN
BEGIN:VEVENT
DTSTART:20160626T100000Z
DTEND:20160626T120000Z
X-MICROSOFT-CDO-ALLDAYEVENT:FALSE
SUMMARY:Fireside Chat
DESCRIPTION:Sandy Hoberg Fox will describe the oddities of the still unsolved murder of Joan Hamann Dole in Middletown in 1966.
X-ALT-DESC;FMTTYPE=text/html:<p><span style="color: rgb(34\, 34\, 34)\; font-size: 12.8px\; background-color: rgb(255\, 255\, 255)\;">Sandy Hoberg Fox will describe the oddities of the still unsolved murder of Joan Hamann Dole in Middletown in 1966.&nbsp\;</span></p> 
LOCATION:Gibson Museum\, Middletown
UID:e.1531.3731
SEQUENCE:3
DTSTAMP:20260421T023121Z
URL:https://members.psaeger.com/events/details/fireside-chat-06-26-2016-3731
END:VEVENT

END:VCALENDAR
