BEGIN:VCALENDAR
VERSION:2.0
PRODID:-//ChamberMaster//Event Calendar 2.0//EN
METHOD:PUBLISH
X-PUBLISHED-TTL:P3D
REFRESH-INTERVAL:P3D
CALSCALE:GREGORIAN
BEGIN:VEVENT
DTSTART:20160529T100000Z
DTEND:20160529T120000Z
X-MICROSOFT-CDO-ALLDAYEVENT:FALSE
SUMMARY:Fireside Chat
DESCRIPTION:Bob Donley will tell of the founding of the annual Middletown Days in 1961\, and the earlier creation of  the Central Park Association\, the gymkhana and rodeo events that preceded it.
X-ALT-DESC;FMTTYPE=text/html:<p>Bob Donley will tell of the founding of the annual&nbsp\;Middletown Days in 1961\, and the earlier creation of &nbsp\;the Central Park Association\, the gymkhana and rodeo events that preceded it.&nbsp\;</p> 
LOCATION:Gibson Museum\, Middletown
UID:e.1531.3739
SEQUENCE:3
DTSTAMP:20260421T041149Z
URL:https://members.psaeger.com/events/details/fireside-chat-05-29-2016-3739
END:VEVENT

END:VCALENDAR
