BEGIN:VCALENDAR
VERSION:2.0
PRODID:-//ChamberMaster//Event Calendar 2.0//EN
METHOD:PUBLISH
X-PUBLISHED-TTL:P3D
REFRESH-INTERVAL:P3D
CALSCALE:GREGORIAN
BEGIN:VEVENT
DTSTART:20160430T100000Z
DTEND:20160430T120000Z
X-MICROSOFT-CDO-ALLDAYEVENT:FALSE
SUMMARY:Fireside Chat
DESCRIPTION:Gene Paleno\, historian and columnist for the Record-Bee\, will introduce his newly released book on Lake County History. At Gisbon Museum\, 21267 Calistoga\, Middletown
X-ALT-DESC;FMTTYPE=text/html:<p>Gene Paleno\, historian and columnist for the Record-Bee\, will introduce his newly released book on Lake County History. At Gisbon Museum\, 21267 Calistoga\, Middletown</p> 
LOCATION:Gibson Museum\, Middletown
UID:e.1531.3728
SEQUENCE:3
DTSTAMP:20260421T054050Z
URL:https://members.psaeger.com/events/details/fireside-chat-04-30-2016-3728
END:VEVENT

END:VCALENDAR
