BEGIN:VCALENDAR
VERSION:2.0
PRODID:-//ChamberMaster//Event Calendar 2.0//EN
METHOD:PUBLISH
X-PUBLISHED-TTL:P3D
REFRESH-INTERVAL:P3D
CALSCALE:GREGORIAN
BEGIN:VEVENT
DTSTART;VALUE=DATE:20170719
DTEND;VALUE=DATE:20170720
TRANSP:TRANSPARENT
X-MICROSOFT-CDO-ALLDAYEVENT:TRUE
SUMMARY:Every Other Wednesday
DESCRIPTION:Every Other Wednesday
X-ALT-DESC;FMTTYPE=text/html:Every Other Wednesday
LOCATION:
UID:e.1531.1582
SEQUENCE:3
DTSTAMP:20260420T050406Z
URL:https://members.psaeger.com/events/details/every-other-wednesday-07-19-2017-1582
END:VEVENT

END:VCALENDAR
