BEGIN:VCALENDAR
VERSION:2.0
PRODID:-//ChamberMaster//Event Calendar 2.0//EN
METHOD:PUBLISH
X-PUBLISHED-TTL:P3D
REFRESH-INTERVAL:P3D
CALSCALE:GREGORIAN
BEGIN:VEVENT
DTSTART:20180406T181500Z
DTEND:20180406T184000Z
X-MICROSOFT-CDO-ALLDAYEVENT:FALSE
SUMMARY:Event with start time 1234
DESCRIPTION:
X-ALT-DESC;FMTTYPE=text/html:
LOCATION:
UID:e.1531.4820
SEQUENCE:3
DTSTAMP:20260421T083549Z
URL:https://members.psaeger.com/events/details/event-with-start-time-1234-4820
END:VEVENT

END:VCALENDAR
