BEGIN:VCALENDAR
VERSION:2.0
PRODID:-//ChamberMaster//Event Calendar 2.0//EN
METHOD:PUBLISH
X-PUBLISHED-TTL:P3D
REFRESH-INTERVAL:P3D
CALSCALE:GREGORIAN
BEGIN:VEVENT
DTSTART:20160417T030000Z
DTEND:20160417T065900Z
X-MICROSOFT-CDO-ALLDAYEVENT:FALSE
SUMMARY:Electric Toys at Village Pub
DESCRIPTION:Live music with "Electric Toys" band at the Village Pub.  16365 Highway 175  Cobb\, CA 95426    928 4500
X-ALT-DESC;FMTTYPE=text/html:<p>Live music with &quot\;Electric Toys&quot\; band at the Village Pub.&nbsp\; 16365 Highway 175&nbsp\; Cobb\, CA 95426&nbsp\;&nbsp\;&nbsp\; 928 4500</p> 
LOCATION:The Village Pub
UID:e.1531.3471
SEQUENCE:3
DTSTAMP:20260421T054621Z
URL:https://members.psaeger.com/events/details/electric-toys-at-village-pub-04-16-2016-3471
END:VEVENT

END:VCALENDAR
