BEGIN:VCALENDAR
VERSION:2.0
PRODID:-//ChamberMaster//Event Calendar 2.0//EN
METHOD:PUBLISH
X-PUBLISHED-TTL:P3D
REFRESH-INTERVAL:P3D
CALSCALE:GREGORIAN
BEGIN:VEVENT
DTSTART:20160427T010000Z
DTEND:20160427T040000Z
X-MICROSOFT-CDO-ALLDAYEVENT:FALSE
SUMMARY:Ed Rinehart Band at Blue Wing $20 Tuesday
DESCRIPTION:Live music is a great compliment to our weekly $20 Tuesdays fixed price three course offered in additional to our regular menu. Everyone enjoys Ed Rinehart\, a gifted boogie woogie pianist and entertainer.
X-ALT-DESC;FMTTYPE=text/html:<h4 class="ui-sch-view">Live music is a great compliment to our weekly $20 Tuesdays fixed price three course offered in additional to our regular menu. Everyone enjoys Ed Rinehart\, a gifted boogie woogie pianist and entertainer.</h4> 
LOCATION:Blue Wing Restaurant
UID:e.1531.3391
SEQUENCE:3
DTSTAMP:20260421T054438Z
URL:https://members.psaeger.com/events/details/ed-rinehart-band-at-blue-wing-20-tuesday-04-26-2016-3391
END:VEVENT

END:VCALENDAR
