BEGIN:VCALENDAR
VERSION:2.0
PRODID:-//ChamberMaster//Event Calendar 2.0//EN
METHOD:PUBLISH
X-PUBLISHED-TTL:P3D
REFRESH-INTERVAL:P3D
CALSCALE:GREGORIAN
BEGIN:VEVENT
DTSTART:20160605T170000Z
DTEND:20160605T200000Z
X-MICROSOFT-CDO-ALLDAYEVENT:FALSE
SUMMARY:EcoArts: Lake County Sculpture Walk - reopening
DESCRIPTION:EcoArts Walk Opens at Middletown County Trailside Park June 5  The 107-acre park burned in the Valley fire last year.  Despite the damage\, the park will again play host to the sculpture walk.  Organizers said that this year's exhibit will be "exceptionally challenging but also an immense opportunity."  The park is located off Dry Creek Cutoff on Highway 175 approximately a mile north of Middletown.   The Sculpture Walk exhibit itself is located along the center trail of the park and runs along approximately one third of a mile of trail once dotted with trees\, shrubs and meadows.  Please join us - reception begins at 10 am
X-ALT-DESC;FMTTYPE=text/html:<p style="text-align: center\;"><span style="color:#006400\;"><span style="font-size: 18px\;"><strong>EcoArts Walk Opens at Middletown County Trailside Park June 5</strong></span></span></p>  <p>The 107-acre park burned in the Valley fire last year.&nbsp\; Despite the damage\, the park will again play host to the sculpture walk.&nbsp\; Organizers said that this year&#39\;s exhibit will be &ldquo\;exceptionally challenging but also an immense opportunity.&rdquo\;</p>  <p>The park is located off Dry Creek Cutoff on Highway 175 approximately a mile north of Middletown.&nbsp\;</p>  <p>The Sculpture Walk exhibit itself is located along the center trail of the park and runs along approximately one third of a mile of trail once dotted with trees\, shrubs and meadows.</p>  <p style="text-align: center\;"><span style="color:#006400\;"><span style="font-size: 18px\;"><strong>Please join us - reception begins at 10 am</strong></span></span></p> 
LOCATION:Middletown County Trailside Park
UID:e.1531.3432
SEQUENCE:3
DTSTAMP:20260421T023457Z
URL:https://members.psaeger.com/events/details/ecoarts-lake-county-sculpture-walk-reopening-06-05-2016-3432
END:VEVENT

END:VCALENDAR
