BEGIN:VCALENDAR
VERSION:2.0
PRODID:-//ChamberMaster//Event Calendar 2.0//EN
METHOD:PUBLISH
X-PUBLISHED-TTL:P3D
REFRESH-INTERVAL:P3D
CALSCALE:GREGORIAN
BEGIN:VEVENT
DTSTART:20160326T210000Z
DTEND:20160326T220000Z
X-MICROSOFT-CDO-ALLDAYEVENT:FALSE
SUMMARY:Easter egg hunt
DESCRIPTION:2nd Annual  Easter Egg Hunt  Saturday March 26th  starts at 2:00pm  BlackRock Golf Course  16451 Golf Road\, Cobb CA 95426  707 928-9611  FREE for all ages
X-ALT-DESC;FMTTYPE=text/html:<p style="text-align: center\;"><span style="font-size: 18px\;">2nd Annual</span></p>  <p style="text-align: center\;"><span style="font-size: 18px\;">Easter Egg Hunt</span></p>  <p style="text-align: center\;"><span style="font-size: 22px\;">Saturday March 26th</span></p>  <p style="text-align: center\;"><span style="font-size: 18px\;">starts at 2:00pm</span></p>  <p style="text-align: center\;"><span style="font-size: 18px\;">BlackRock Golf Course</span></p>  <p style="text-align: center\;"><span style="font-size: 18px\;">16451 Golf Road\, Cobb CA 95426</span></p>  <p style="text-align: center\;"><span style="font-size: 18px\;">707 928-9611</span></p>  <p style="text-align: center\;"><span style="font-size: 18px\;">FREE for all ages</span></p> 
LOCATION:BlackRock Golf Course
UID:e.1531.3479
SEQUENCE:3
DTSTAMP:20260421T071525Z
URL:https://members.psaeger.com/events/details/easter-egg-hunt-03-26-2016-3479
END:VEVENT

END:VCALENDAR
