BEGIN:VCALENDAR
VERSION:2.0
PRODID:-//ChamberMaster//Event Calendar 2.0//EN
METHOD:PUBLISH
X-PUBLISHED-TTL:P3D
REFRESH-INTERVAL:P3D
CALSCALE:GREGORIAN
BEGIN:VEVENT
DTSTART:20160312T200000Z
DTEND:20160313T000000Z
X-MICROSOFT-CDO-ALLDAYEVENT:FALSE
SUMMARY:Craft Sale ~ Fire Benefit
DESCRIPTION:CRAFT SALE ~ FIRE BENEFIT:  Saturday\, March 12   Brick Hall\, 16374 Main St\, Lower Lake  Art & Craft Supplies\, Locally made Crafts\, Bake Sale.  Sponsored by The Time Bank of Thrive Lake County.  Profits to Hope Crisis Response Network to help rebuild Lake County.  For more info on Facebook:  Spotlight On Productions
X-ALT-DESC;FMTTYPE=text/html:<h3><strong>CRAFT SALE ~ FIRE BENEFIT: &nbsp\;Saturday\, March 12 &nbsp\;&nbsp\;Brick Hall\, 16374 Main St\, Lower Lake</strong></h3>  <p>Art &amp\; Craft Supplies\, Locally made Crafts\, Bake Sale. &nbsp\;Sponsored by The Time Bank of Thrive Lake County. &nbsp\;Profits to Hope Crisis Response Network to help rebuild Lake County. &nbsp\;For more info on Facebook: &nbsp\;Spotlight On Productions</p>  <p>&nbsp\;</p>  <p>&nbsp\;</p> 
LOCATION:Brick Hall\, 16374 Main St\, Lower Lake
UID:e.1531.3223
SEQUENCE:3
DTSTAMP:20260421T071812Z
URL:https://members.psaeger.com/events/details/craft-sale-fire-benefit-03-12-2016-3223
END:VEVENT

END:VCALENDAR
