BEGIN:VCALENDAR
VERSION:2.0
PRODID:-//ChamberMaster//Event Calendar 2.0//EN
METHOD:PUBLISH
X-PUBLISHED-TTL:P3D
REFRESH-INTERVAL:P3D
CALSCALE:GREGORIAN
BEGIN:VEVENT
DTSTART:20160313T220000Z
DTEND:20160314T000000Z
X-MICROSOFT-CDO-ALLDAYEVENT:FALSE
SUMMARY:Contemporary Chamber Music
DESCRIPTION:Contemporary Chamber Music will take center stage at the Soper Reese Theatre on Sunday\, March 13\, at 3:00 pm. The third in a four part series produced by Beth Aiken and Jeff Ives\, this concert features the remarkable talents of six string musicians who will play compositions by Johannes Brahams and Frank Bridge. All seats are reserved. Tickets are $20 and $15. Children 18 and under are free.     Performers include Tammie Dyer and Marcia Lotter-violin\; Jeff Ives and David Hill-viola\; and Joel Cohen and Corinne Antipa-cello.     Tickets are available now\, online at SoperReeseTheatre.com\, at the Theatre Box Office\, 275 S. Main St.\, Lakeport on Fridays 10:30 am to 5:30 pm\; or by phone at 707-263-0577. Tickets also available at The Travel Center\, 1265 S. Main\, Lakeport\, Monday-Friday 9:00 am to 5:00 pm.
X-ALT-DESC;FMTTYPE=text/html:<p>Contemporary Chamber Music will take center stage at the Soper Reese Theatre on Sunday\, March 13\, at 3:00 pm. The third in a four part series produced by Beth Aiken and Jeff Ives\, this concert features the remarkable talents of six string musicians who will play compositions by Johannes Brahams and Frank Bridge. All seats are reserved. Tickets are $20 and $15. Children 18 and under are free.</p>  <p>&nbsp\;</p>  <p>Performers include Tammie Dyer and Marcia Lotter-violin\; Jeff Ives and David Hill-viola\; and Joel Cohen and Corinne Antipa-cello.</p>  <p>&nbsp\;</p>  <p>Tickets are available now\, online at SoperReeseTheatre.com\, at the Theatre Box Office\, 275 S. Main St.\, Lakeport on Fridays 10:30 am to 5:30 pm\; or by phone at 707-263-0577. <a name="_GoBack"></a>Tickets also available at The Travel Center\, 1265 S. Main\, Lakeport\, Monday-Friday 9:00 am to 5:00 pm.</p> 
LOCATION:Soper Reese Theatre\, 275 S. Main St.\, Lakeport
UID:e.1531.3226
SEQUENCE:3
DTSTAMP:20260421T071817Z
URL:https://members.psaeger.com/events/details/contemporary-chamber-music-03-13-2016-3226
END:VEVENT

END:VCALENDAR
