BEGIN:VCALENDAR
VERSION:2.0
PRODID:-//ChamberMaster//Event Calendar 2.0//EN
METHOD:PUBLISH
X-PUBLISHED-TTL:P3D
REFRESH-INTERVAL:P3D
CALSCALE:GREGORIAN
BEGIN:VEVENT
DTSTART:20160406T003000Z
DTEND:20160406T030000Z
X-MICROSOFT-CDO-ALLDAYEVENT:FALSE
SUMMARY:Clear Lake Chamber of Commerce April Mixer
DESCRIPTION:The Clear Lake Chamber of Commerce will hold its April mixer at the Lower Lake Historic Schoolhouse Museum on Tuesday\, April 5.  A variety of light entertainment will fill the evening culminating with a presentation by Whitney Petrey\, assistant museum curator\, who will speak about the history of Harbin Hot Springs and findings obtained through archeological monitoring during recent fire cleanup efforts.  The $10 admission price includes appetizers and entertainment. Beer and wine will be available at an additional charge. The event will also feature raffle opportunities.  The mixer will begin at 5:30 p.m.  Anyone who interested in learning more about the chamber is welcome to attend. Members are encouraged to bring guests.   For more information\, call 707-994-3600 or email clcccontact@gmail.com.
X-ALT-DESC;FMTTYPE=text/html:<p>The Clear Lake Chamber of Commerce will hold its April mixer at the Lower Lake Historic Schoolhouse Museum on Tuesday\, April 5.</p>  <p>A variety of light entertainment will fill the evening culminating with a presentation by Whitney Petrey\, assistant museum curator\, who will speak about the history of Harbin Hot Springs and findings obtained through archeological monitoring during recent fire cleanup efforts.</p>  <p>The $10 admission price includes appetizers and entertainment. Beer and wine will be available at an additional charge. The event will also feature raffle opportunities.</p>  <p>The mixer will begin at 5:30 p.m.&nbsp\; Anyone who interested in learning more about the chamber is welcome to attend. Members are encouraged to bring guests.&nbsp\;</p>  <p>For more information\, call 707-994-3600 or email <a href="mailto:clcccontact@gmail.com">clcccontact@gmail.com</a>.&nbsp\;</p> 
LOCATION:Lower Lake Historic Schoolhouse Museum
UID:e.1531.3485
SEQUENCE:3
DTSTAMP:20260421T054619Z
URL:https://members.psaeger.com/events/details/clear-lake-chamber-of-commerce-april-mixer-04-05-2016-3485
END:VEVENT

END:VCALENDAR
