BEGIN:VCALENDAR
VERSION:2.0
PRODID:-//ChamberMaster//Event Calendar 2.0//EN
METHOD:PUBLISH
X-PUBLISHED-TTL:P3D
REFRESH-INTERVAL:P3D
CALSCALE:GREGORIAN
BEGIN:VEVENT
DTSTART:20161203T013000Z
DTEND:20161203T043000Z
X-MICROSOFT-CDO-ALLDAYEVENT:FALSE
SUMMARY:Christmas in the Country
DESCRIPTION:SAVE THE DATE
X-ALT-DESC;FMTTYPE=text/html:<p>SAVE THE DATE</p> 
LOCATION:Main Street\, Kelseyville
UID:e.1531.3338
SEQUENCE:3
DTSTAMP:20260420T162305Z
URL:https://members.psaeger.com/events/details/christmas-in-the-country-12-02-2016-3338
END:VEVENT

END:VCALENDAR
