BEGIN:VCALENDAR
VERSION:2.0
PRODID:-//ChamberMaster//Event Calendar 2.0//EN
METHOD:PUBLISH
X-PUBLISHED-TTL:P3D
REFRESH-INTERVAL:P3D
CALSCALE:GREGORIAN
BEGIN:VEVENT
DTSTART:20160306T183000Z
DTEND:20160306T230000Z
X-MICROSOFT-CDO-ALLDAYEVENT:FALSE
SUMMARY:Chris Forshay at Blue Wing Sunday Brunch
DESCRIPTION:Enjoy a great brunch from 10:30 to 3:00 with live music inside or out in the garden in good weather from 11:30 to 2:00. Music today is by guitarist and vocalist Chris Forshay.
X-ALT-DESC;FMTTYPE=text/html:<p>Enjoy a great brunch from 10:30 to 3:00 with live music inside or out in the garden in good weather from 11:30 to 2:00. Music today is by guitarist and vocalist Chris Forshay.</p> 
LOCATION:Blue Wing Restaurant
UID:e.1531.3214
SEQUENCE:3
DTSTAMP:20260421T072442Z
URL:https://members.psaeger.com/events/details/chris-forshay-at-blue-wing-sunday-brunch-03-06-2016-3214
END:VEVENT

END:VCALENDAR
