BEGIN:VCALENDAR
VERSION:2.0
PRODID:-//ChamberMaster//Event Calendar 2.0//EN
METHOD:PUBLISH
X-PUBLISHED-TTL:P3D
REFRESH-INTERVAL:P3D
CALSCALE:GREGORIAN
BEGIN:VEVENT
DTSTART:20160409T170000Z
DTEND:20160409T220000Z
X-MICROSOFT-CDO-ALLDAYEVENT:FALSE
SUMMARY:Children's Festival and Advocacy Walk
DESCRIPTION:6th Annual Children's Festival and Advocacy Walk  April 9\, 2016  10am-3pm  Russell Rustici County Park\, Lower Lake   For information and to register for the advocacy walk:  lakecountychildrenscouncil.com
X-ALT-DESC;FMTTYPE=text/html:<p>6th Annual Children&#39\;s Festival and Advocacy Walk</p>  <p>April 9\, 2016</p>  <p>10am-3pm</p>  <p>Russell Rustici County Park\, Lower Lake&nbsp\;</p>  <p>For information and to register for the advocacy walk:</p>  <p>lakecountychildrenscouncil.com</p> 
LOCATION:Russell Rustici County Park\, Lower Lake
UID:e.1531.3493
SEQUENCE:3
DTSTAMP:20260421T055009Z
URL:https://members.psaeger.com/events/details/children-s-festival-and-advocacy-walk-04-09-2016-3493
END:VEVENT

END:VCALENDAR
