BEGIN:VCALENDAR
VERSION:2.0
PRODID:-//ChamberMaster//Event Calendar 2.0//EN
METHOD:PUBLISH
X-PUBLISHED-TTL:P3D
REFRESH-INTERVAL:P3D
CALSCALE:GREGORIAN
BEGIN:VEVENT
DTSTART:20160716T000000Z
DTEND:20160716T030000Z
X-MICROSOFT-CDO-ALLDAYEVENT:FALSE
SUMMARY:California Groove - Concert on the Green
DESCRIPTION:Concerts on the Green  Open to the Public 3rd Friday of the Month\n 5:00pm-8:00pm  July 15    California Groove     Next: August 19    Decades
X-ALT-DESC;FMTTYPE=text/html:<h1 style="text-align: center\;"><span style="color:#008000\;">Concerts on the Green</span></h1>  <p style="text-align: center\;"><span style="color:#008000\;">Open to the Public 3rd Friday of the Month<br /> 5:00pm-8:00pm</span></p>  <p style="text-align: center\;">July 15 &nbsp\;&nbsp\;&nbsp\;California Groove</p>  <p style="text-align: center\;">&nbsp\;</p>  <p>Next: <a href="http://www2.lakecochamber.com/calendar/w/id/19965/event-details.asp"><span style="font-size:18px\;">August 19 &nbsp\;&nbsp\;&nbsp\;Decades</span></a></p>  <p style="text-align: center\;">&nbsp\;</p> 
LOCATION:Hidden Valley Lake - Behind the Greenview Restaurant
UID:e.1531.3505
SEQUENCE:3
DTSTAMP:20260421T004655Z
URL:https://members.psaeger.com/events/details/california-groove-concert-on-the-green-07-15-2016-3505
END:VEVENT

END:VCALENDAR
