BEGIN:VCALENDAR
VERSION:2.0
PRODID:-//ChamberMaster//Event Calendar 2.0//EN
METHOD:PUBLISH
X-PUBLISHED-TTL:P3D
REFRESH-INTERVAL:P3D
CALSCALE:GREGORIAN
BEGIN:VEVENT
DTSTART:20160220T010000Z
DTEND:20160220T060000Z
X-MICROSOFT-CDO-ALLDAYEVENT:FALSE
SUMMARY:Cache Creek Wine Tasting & Dinner Pairing
DESCRIPTION:Cache Creek Vineyards\n Wine Tasting & Pairing Dinner  Twin Pine Casino - 22223 Highway 29\, Middletown     February 19\, 2016  \n Wine Tasting: 5 pm - 7 pm\n Dinner Pairing: 5 pm - 10 pm  Chef Tommy Garrett - menu   Guest Artist: Donna Taylor\n Olive Oil Tasting by: The Villa Barone
X-ALT-DESC;FMTTYPE=text/html:<p style="text-align: center\;"><strong><span style="font-size:26px\;"><span style="color: rgb(153\, 0\, 204)\;">Cache Creek Vineyards</span></span><br /> <span style="font-size:20px\;">Wine Tasting &amp\; Pairing Dinner</span></strong></p>  <p style="text-align: center\;"><span style="font-size:14px\;">Twin Pine Casino - 22223 Highway 29\, Middletown</span></p>  <p>&nbsp\;</p>  <p style="text-align: center\;"><span style="font-size:22px\;">February 19\, 2016</span></p>  <p style="text-align: center\;"><br /> <span style="font-size:18px\;">Wine Tasting: 5 pm - 7 pm<br /> Dinner Pairing: 5 pm - 10 pm</span></p>  <p style="text-align: center\;"><span style="font-size:14px\;"><strong>Chef Tommy Garrett - <span style="font-size:20px\;"><a href="http://www.twinpine.com/dining/manzanita-restaurant">menu </a></span></strong></span></p>  <p style="text-align: center\;"><span style="font-size:14px\;">Guest Artist: Donna Taylor<br /> Olive Oil Tasting by: The Villa Barone</span></p> 
LOCATION:Twin Pine Casino & Hotel
UID:e.1531.3189
SEQUENCE:3
DTSTAMP:20260421T085016Z
URL:https://members.psaeger.com/events/details/cache-creek-wine-tasting-dinner-pairing-02-19-2016-3189
END:VEVENT

END:VCALENDAR
