BEGIN:VCALENDAR
VERSION:2.0
PRODID:-//ChamberMaster//Event Calendar 2.0//EN
METHOD:PUBLISH
X-PUBLISHED-TTL:P3D
REFRESH-INTERVAL:P3D
CALSCALE:GREGORIAN
BEGIN:VEVENT
DTSTART:20160424T030000Z
DTEND:20160424T065900Z
X-MICROSOFT-CDO-ALLDAYEVENT:FALSE
SUMMARY:Blues Farm at the Village Pub
DESCRIPTION:Live music at the Village Pub presents "Blues Farm".  16365 Highway 175  Cobb Ca    928 4500
X-ALT-DESC;FMTTYPE=text/html:<p>Live music at the Village Pub presents &quot\;Blues Farm&quot\;.&nbsp\; 16365 Highway 175&nbsp\; Cobb Ca&nbsp\;&nbsp\;&nbsp\; 928 4500</p> 
LOCATION:The Village Pub
UID:e.1531.3473
SEQUENCE:3
DTSTAMP:20260421T054203Z
URL:https://members.psaeger.com/events/details/blues-farm-at-the-village-pub-04-23-2016-3473
END:VEVENT

END:VCALENDAR
