BEGIN:VCALENDAR
VERSION:2.0
PRODID:-//ChamberMaster//Event Calendar 2.0//EN
METHOD:PUBLISH
X-PUBLISHED-TTL:P3D
REFRESH-INTERVAL:P3D
CALSCALE:GREGORIAN
BEGIN:VEVENT
DTSTART:20160906T010000Z
DTEND:20160906T040000Z
X-MICROSOFT-CDO-ALLDAYEVENT:FALSE
SUMMARY:Blue Wing Labor Day Blues Extravaganza
DESCRIPTION:Our annual blues festival outdoors under the sycamores in the garden between the Blue Wing and the Tallman Hotel features two great bands and a gourmet barbeque dinner\, all for an admission price of $50 + tax.  Tickets available at the Hotel Reception Desk and by calling (707) 275-2244 ext. 0.  Tonight's headliner from New Orleans is the great Kenny Neal and his Family Band
X-ALT-DESC;FMTTYPE=text/html:<p>Our annual blues festival outdoors under the sycamores in the garden between the Blue Wing and the Tallman Hotel features two great bands and a gourmet barbeque dinner\, all for an admission price of $50 + tax.&nbsp\; Tickets available at the Hotel Reception Desk and by calling (707) 275-2244 ext. 0.&nbsp\; Tonight&#39\;s headliner from New Orleans is the great Kenny Neal and his Family Band</p> 
LOCATION:Blue Wing Restaurant
UID:e.1531.3322
SEQUENCE:3
DTSTAMP:20260420T211950Z
URL:https://members.psaeger.com/events/details/blue-wing-labor-day-blues-extravaganza-09-05-2016-3322
END:VEVENT

END:VCALENDAR
