BEGIN:VCALENDAR
VERSION:2.0
PRODID:-//ChamberMaster//Event Calendar 2.0//EN
METHOD:PUBLISH
X-PUBLISHED-TTL:P3D
REFRESH-INTERVAL:P3D
CALSCALE:GREGORIAN
BEGIN:VEVENT
DTSTART:20160223T023000Z
DTEND:20160223T050000Z
X-MICROSOFT-CDO-ALLDAYEVENT:FALSE
SUMMARY:Blue Reptiles at Blue Wing Monday Blues
DESCRIPTION:Local\, Bay Area and touring blues bands perform at the Blue Wing at dinner time each Monday evening. It's great food in a lively and danceable atmosphere. There's no cover but reservations are suggested\, either inside or out on our heated veranda. Tonight we feature the authentic Mississippi blues of T. C. Culp and the Blue Reptiles.
X-ALT-DESC;FMTTYPE=text/html:<p>Local\, Bay Area and touring blues bands perform at the Blue Wing at dinner time each Monday evening. It&#39\;s great food in a lively and danceable atmosphere. There&#39\;s no cover but reservations are suggested\, either inside or out on our heated veranda. Tonight we feature the authentic Mississippi blues of T. C. Culp and the Blue Reptiles.</p> 
LOCATION:Blue Wing Restaurant
UID:e.1531.3197
SEQUENCE:3
DTSTAMP:20260421T085238Z
URL:https://members.psaeger.com/events/details/blue-reptiles-at-blue-wing-monday-blues-02-22-2016-3197
END:VEVENT

END:VCALENDAR
