BEGIN:VCALENDAR
VERSION:2.0
PRODID:-//ChamberMaster//Event Calendar 2.0//EN
METHOD:PUBLISH
X-PUBLISHED-TTL:P3D
REFRESH-INTERVAL:P3D
CALSCALE:GREGORIAN
BEGIN:VEVENT
DTSTART;VALUE=DATE:20140925
DTEND;VALUE=DATE:20140926
TRANSP:TRANSPARENT
X-MICROSOFT-CDO-ALLDAYEVENT:TRUE
SUMMARY:Another Test Event for Andrew
DESCRIPTION:this is a test you should not get
X-ALT-DESC;FMTTYPE=text/html:this is a test you should not get
LOCATION:
UID:e.1531.1071
SEQUENCE:3
DTSTAMP:20260422T120347Z
URL:https://members.psaeger.com/events/details/another-test-event-for-andrew-09-25-2014-1071
END:VEVENT

END:VCALENDAR
