BEGIN:VCALENDAR
VERSION:2.0
PRODID:-//ChamberMaster//Event Calendar 2.0//EN
METHOD:PUBLISH
X-PUBLISHED-TTL:P3D
REFRESH-INTERVAL:P3D
CALSCALE:GREGORIAN
BEGIN:VEVENT
DTSTART:20160224T020000Z
DTEND:20160224T040000Z
X-MICROSOFT-CDO-ALLDAYEVENT:FALSE
SUMMARY:Andy Rossoff at Blue Wing $20 Tuesday
DESCRIPTION:Live music is a great compliment to our weekly $20 Tuesdays fixed price three course offered in additional to our regular menu. Andy Rossoff\, one of Lake County's premier pianists\, will be at the keyboards of our vintage 1902 Kimball piano.
X-ALT-DESC;FMTTYPE=text/html:<p>Live music is a great compliment to our weekly $20 Tuesdays fixed price three course offered in additional to our regular menu. Andy Rossoff\, one of Lake County&#39\;s premier pianists\, will be at the keyboards of our vintage 1902 Kimball piano.</p> 
LOCATION:Blue Wing Restaurant
UID:e.1531.3198
SEQUENCE:3
DTSTAMP:20260421T090443Z
URL:https://members.psaeger.com/events/details/andy-rossoff-at-blue-wing-20-tuesday-02-23-2016-3198
END:VEVENT

END:VCALENDAR
